BEGIN:VCALENDAR
VERSION:2.0
PRODID:-//Riverbend Montessori - ECPv6.15.15//NONSGML v1.0//EN
CALSCALE:GREGORIAN
METHOD:PUBLISH
X-WR-CALNAME:Riverbend Montessori
X-ORIGINAL-URL:https://riverbendmontessori.com
X-WR-CALDESC:Events for Riverbend Montessori
REFRESH-INTERVAL;VALUE=DURATION:PT1H
X-Robots-Tag:noindex
X-PUBLISHED-TTL:PT1H
BEGIN:VTIMEZONE
TZID:America/Chicago
BEGIN:DAYLIGHT
TZOFFSETFROM:-0600
TZOFFSETTO:-0500
TZNAME:CDT
DTSTART:20230312T080000
END:DAYLIGHT
BEGIN:STANDARD
TZOFFSETFROM:-0500
TZOFFSETTO:-0600
TZNAME:CST
DTSTART:20231105T070000
END:STANDARD
BEGIN:DAYLIGHT
TZOFFSETFROM:-0600
TZOFFSETTO:-0500
TZNAME:CDT
DTSTART:20240310T080000
END:DAYLIGHT
BEGIN:STANDARD
TZOFFSETFROM:-0500
TZOFFSETTO:-0600
TZNAME:CST
DTSTART:20241103T070000
END:STANDARD
BEGIN:DAYLIGHT
TZOFFSETFROM:-0600
TZOFFSETTO:-0500
TZNAME:CDT
DTSTART:20250309T080000
END:DAYLIGHT
BEGIN:STANDARD
TZOFFSETFROM:-0500
TZOFFSETTO:-0600
TZNAME:CST
DTSTART:20251102T070000
END:STANDARD
END:VTIMEZONE
BEGIN:VEVENT
DTSTART;VALUE=DATE:20240429
DTEND;VALUE=DATE:20240511
DTSTAMP:20260419T095242
CREATED:20240216T162138Z
LAST-MODIFIED:20240216T164033Z
UID:3310-1714348800-1715385599@riverbendmontessori.com
SUMMARY:April 29th-May 10th: Stanford Achievement Tests 2024
DESCRIPTION:Stanford Achievement Practise Tests:  Begin on April 29th and run through the week until May 3rd. \nStanford Achievement Testing: Begin on May 6th and run through the week until May 10th.
URL:https://riverbendmontessori.com/event/stanford-achievement-tests-2024/
LOCATION:Riverbend Montessori School\, 4225 Elkins Road\, Sugar Land\, TX\, 77479\, United States
ORGANIZER;CN="Maggie Tillman":MAILTO:info@riverbendmontessori.com
END:VEVENT
BEGIN:VEVENT
DTSTART;VALUE=DATE:20240512
DTEND;VALUE=DATE:20240517
DTSTAMP:20260419T095242
CREATED:20240216T165923Z
LAST-MODIFIED:20240216T165923Z
UID:3325-1715472000-1715903999@riverbendmontessori.com
SUMMARY:May 12-May 16\, 2024 Upper Elem. Mesa Verde Field Trip
DESCRIPTION:May 12-May 16\, 2024 Upper Elem. Mesa Verde Field Trip- More information to follow
URL:https://riverbendmontessori.com/event/may-12-may-16-2024-upper-elem-mesa-verde-field-trip/
END:VEVENT
BEGIN:VEVENT
DTSTART;VALUE=DATE:20240517
DTEND;VALUE=DATE:20240518
DTSTAMP:20260419T095242
CREATED:20240216T162739Z
LAST-MODIFIED:20240216T164128Z
UID:3312-1715904000-1715990399@riverbendmontessori.com
SUMMARY:May 17\, 2024-Parent/Teacher Conferences: NO SCHOOL
DESCRIPTION:5/17/24: Parent/Teacher Conferences for all classes.  No School
URL:https://riverbendmontessori.com/event/parent-teacher-conferences-no-school-5-17-24/
LOCATION:Riverbend Montessori School\, 4225 Elkins Road\, Sugar Land\, TX\, 77479\, United States
ORGANIZER;CN="Maggie Tillman":MAILTO:info@riverbendmontessori.com
END:VEVENT
BEGIN:VEVENT
DTSTART;VALUE=DATE:20240520
DTEND;VALUE=DATE:20240521
DTSTAMP:20260419T095242
CREATED:20240515T151634Z
LAST-MODIFIED:20240515T151711Z
UID:3343-1716163200-1716249599@riverbendmontessori.com
SUMMARY:5/20/2024 Elem. Parent/Teacher Conferences
DESCRIPTION:Parent/Teacher conferences for Upper Elementary Class.  No School for this class only and all students are required to attend.
URL:https://riverbendmontessori.com/event/upper-elem-parent-teacher-conferences-5-20-2024/
END:VEVENT
BEGIN:VEVENT
DTSTART;TZID=America/Chicago:20240521T183000
DTEND;TZID=America/Chicago:20240521T200000
DTSTAMP:20260419T095242
CREATED:20240216T163143Z
LAST-MODIFIED:20240515T150940Z
UID:3314-1716316200-1716321600@riverbendmontessori.com
SUMMARY:May 21\, 2024 Art Festival
DESCRIPTION:Annual Art Festival
URL:https://riverbendmontessori.com/event/2024-art-festival/
LOCATION:Riverbend Montessori School\, 4225 Elkins Road\, Sugar Land\, TX\, 77479\, United States
ORGANIZER;CN="Maggie Tillman":MAILTO:info@riverbendmontessori.com
END:VEVENT
BEGIN:VEVENT
DTSTART;VALUE=DATE:20240522
DTEND;VALUE=DATE:20240523
DTSTAMP:20260419T095242
CREATED:20240216T165440Z
LAST-MODIFIED:20240216T165440Z
UID:3322-1716336000-1716422399@riverbendmontessori.com
SUMMARY:May 22\, 2024 Completion Ceremony
DESCRIPTION:A Completion Ceremony will be held for all Kindergarten children\, third graders\, and sixth graders. More information to follow.
URL:https://riverbendmontessori.com/event/may-22-2024-completion-ceremony/
LOCATION:Riverbend Montessori School\, 4225 Elkins Road\, Sugar Land\, TX\, 77479\, United States
ORGANIZER;CN="Maggie Tillman":MAILTO:info@riverbendmontessori.com
END:VEVENT
BEGIN:VEVENT
DTSTART;VALUE=DATE:20240523
DTEND;VALUE=DATE:20240524
DTSTAMP:20260419T095242
CREATED:20240216T171102Z
LAST-MODIFIED:20240515T144653Z
UID:3327-1716422400-1716508799@riverbendmontessori.com
SUMMARY:May 23\, 2024 Last Day of School: Early Dismissal NO AFTERCARE
DESCRIPTION:May 23\, 2024- Last Day of School: Early Dismissal \n11:00 a.m. Primary and Transition Classes \n11:15 a.m. Lower Elementary Class
URL:https://riverbendmontessori.com/event/may-23-2024-last-day-of-school-early-dismissal/
LOCATION:Riverbend Montessori School\, 4225 Elkins Road\, Sugar Land\, TX\, 77479\, United States
ORGANIZER;CN="Maggie Tillman":MAILTO:info@riverbendmontessori.com
END:VEVENT
BEGIN:VEVENT
DTSTART;VALUE=DATE:20240528
DTEND;VALUE=DATE:20240529
DTSTAMP:20260419T095242
CREATED:20240216T171214Z
LAST-MODIFIED:20240216T171214Z
UID:3329-1716854400-1716940799@riverbendmontessori.com
SUMMARY:May 28\, 2024 First Day of Summer Camp
DESCRIPTION:May 28th is the first day of Summer Camp
URL:https://riverbendmontessori.com/event/may-28-2024-first-day-of-summer-camp/
LOCATION:Riverbend Montessori School\, 4225 Elkins Road\, Sugar Land\, TX\, 77479\, United States
ORGANIZER;CN="Maggie Tillman":MAILTO:info@riverbendmontessori.com
END:VEVENT
BEGIN:VEVENT
DTSTART;TZID=America/Chicago:20240528T090000
DTEND;TZID=America/Chicago:20240629T150000
DTSTAMP:20260419T095242
CREATED:20240531T192116Z
LAST-MODIFIED:20240531T192116Z
UID:3349-1716886800-1719673200@riverbendmontessori.com
SUMMARY:2024 Summer Office Hours
DESCRIPTION:Our Summer Office hours are Monday through Friday 9 a.m.-3 p.m.
URL:https://riverbendmontessori.com/event/2024-summer-office-hours/
ORGANIZER;CN="Maggie Tillman":MAILTO:info@riverbendmontessori.com
END:VEVENT
END:VCALENDAR