BEGIN:VCALENDAR
VERSION:2.0
PRODID:-//Riverbend Montessori - ECPv6.15.15//NONSGML v1.0//EN
CALSCALE:GREGORIAN
METHOD:PUBLISH
X-WR-CALNAME:Riverbend Montessori
X-ORIGINAL-URL:https://riverbendmontessori.com
X-WR-CALDESC:Events for Riverbend Montessori
REFRESH-INTERVAL;VALUE=DURATION:PT1H
X-Robots-Tag:noindex
X-PUBLISHED-TTL:PT1H
BEGIN:VTIMEZONE
TZID:America/Chicago
BEGIN:DAYLIGHT
TZOFFSETFROM:-0600
TZOFFSETTO:-0500
TZNAME:CDT
DTSTART:20230312T080000
END:DAYLIGHT
BEGIN:STANDARD
TZOFFSETFROM:-0500
TZOFFSETTO:-0600
TZNAME:CST
DTSTART:20231105T070000
END:STANDARD
BEGIN:DAYLIGHT
TZOFFSETFROM:-0600
TZOFFSETTO:-0500
TZNAME:CDT
DTSTART:20240310T080000
END:DAYLIGHT
BEGIN:STANDARD
TZOFFSETFROM:-0500
TZOFFSETTO:-0600
TZNAME:CST
DTSTART:20241103T070000
END:STANDARD
BEGIN:DAYLIGHT
TZOFFSETFROM:-0600
TZOFFSETTO:-0500
TZNAME:CDT
DTSTART:20250309T080000
END:DAYLIGHT
BEGIN:STANDARD
TZOFFSETFROM:-0500
TZOFFSETTO:-0600
TZNAME:CST
DTSTART:20251102T070000
END:STANDARD
END:VTIMEZONE
BEGIN:VEVENT
DTSTART;TZID=America/Chicago:20240418T183000
DTEND;TZID=America/Chicago:20240418T200000
DTSTAMP:20260419T115536
CREATED:20240216T163904Z
LAST-MODIFIED:20240216T163956Z
UID:3316-1713465000-1713470400@riverbendmontessori.com
SUMMARY:April 18\, 2024 Annual Authors' Tea
DESCRIPTION:Our Annual Authors’ Tea will be held from 6:30-8:00 p.m. on Thursday\, April 18th.
URL:https://riverbendmontessori.com/event/2024-annual-authors-tea/
LOCATION:Riverbend Montessori School\, 4225 Elkins Road\, Sugar Land\, TX\, 77479\, United States
ORGANIZER;CN="Maggie Tillman":MAILTO:info@riverbendmontessori.com
END:VEVENT
BEGIN:VEVENT
DTSTART;VALUE=DATE:20240424
DTEND;VALUE=DATE:20240425
DTSTAMP:20260419T115536
CREATED:20240118T214314Z
LAST-MODIFIED:20240118T214314Z
UID:3266-1713916800-1714003199@riverbendmontessori.com
SUMMARY:April 24\, 2024 Hot Lunch Orders Due
DESCRIPTION:Any changes or if you are starting to add hot lunch for your child the orders are due today.  Please call the office if you do not have a form.
URL:https://riverbendmontessori.com/event/april-24-2024-hot-lunch-orders-due/
LOCATION:Riverbend Montessori School\, 4225 Elkins Road\, Sugar Land\, TX\, 77479\, United States
ORGANIZER;CN="Maggie Tillman":MAILTO:info@riverbendmontessori.com
END:VEVENT
BEGIN:VEVENT
DTSTART;VALUE=DATE:20240429
DTEND;VALUE=DATE:20240511
DTSTAMP:20260419T115536
CREATED:20240216T162138Z
LAST-MODIFIED:20240216T164033Z
UID:3310-1714348800-1715385599@riverbendmontessori.com
SUMMARY:April 29th-May 10th: Stanford Achievement Tests 2024
DESCRIPTION:Stanford Achievement Practise Tests:  Begin on April 29th and run through the week until May 3rd. \nStanford Achievement Testing: Begin on May 6th and run through the week until May 10th.
URL:https://riverbendmontessori.com/event/stanford-achievement-tests-2024/
LOCATION:Riverbend Montessori School\, 4225 Elkins Road\, Sugar Land\, TX\, 77479\, United States
ORGANIZER;CN="Maggie Tillman":MAILTO:info@riverbendmontessori.com
END:VEVENT
END:VCALENDAR