BEGIN:VCALENDAR
VERSION:2.0
PRODID:-//Riverbend Montessori - ECPv6.15.15//NONSGML v1.0//EN
CALSCALE:GREGORIAN
METHOD:PUBLISH
X-WR-CALNAME:Riverbend Montessori
X-ORIGINAL-URL:https://riverbendmontessori.com
X-WR-CALDESC:Events for Riverbend Montessori
REFRESH-INTERVAL;VALUE=DURATION:PT1H
X-Robots-Tag:noindex
X-PUBLISHED-TTL:PT1H
BEGIN:VTIMEZONE
TZID:America/Chicago
BEGIN:DAYLIGHT
TZOFFSETFROM:-0600
TZOFFSETTO:-0500
TZNAME:CDT
DTSTART:20230312T080000
END:DAYLIGHT
BEGIN:STANDARD
TZOFFSETFROM:-0500
TZOFFSETTO:-0600
TZNAME:CST
DTSTART:20231105T070000
END:STANDARD
BEGIN:DAYLIGHT
TZOFFSETFROM:-0600
TZOFFSETTO:-0500
TZNAME:CDT
DTSTART:20240310T080000
END:DAYLIGHT
BEGIN:STANDARD
TZOFFSETFROM:-0500
TZOFFSETTO:-0600
TZNAME:CST
DTSTART:20241103T070000
END:STANDARD
BEGIN:DAYLIGHT
TZOFFSETFROM:-0600
TZOFFSETTO:-0500
TZNAME:CDT
DTSTART:20250309T080000
END:DAYLIGHT
BEGIN:STANDARD
TZOFFSETFROM:-0500
TZOFFSETTO:-0600
TZNAME:CST
DTSTART:20251102T070000
END:STANDARD
END:VTIMEZONE
BEGIN:VEVENT
DTSTART;VALUE=DATE:20240301
DTEND;VALUE=DATE:20240302
DTSTAMP:20260419T135425
CREATED:20231128T174714Z
LAST-MODIFIED:20231128T174714Z
UID:3227-1709251200-1709337599@riverbendmontessori.com
SUMMARY:March 1\, 2024 Go Texan Day
DESCRIPTION:March 1\, 2024 Go Texan Day.  Wear your favorite Texan gear!
URL:https://riverbendmontessori.com/event/march-1-2024-go-texan-day/
LOCATION:Riverbend Montessori School\, 4225 Elkins Road\, Sugar Land\, TX\, 77479\, United States
ORGANIZER;CN="Maggie Tillman":MAILTO:info@riverbendmontessori.com
END:VEVENT
BEGIN:VEVENT
DTSTART;VALUE=DATE:20240308
DTEND;VALUE=DATE:20240309
DTSTAMP:20260419T135425
CREATED:20231128T175043Z
LAST-MODIFIED:20231128T175043Z
UID:3229-1709856000-1709942399@riverbendmontessori.com
SUMMARY:March 8\, 2024 St. Jude's Children's Research Hospital Trike-A-Thon
DESCRIPTION:March 8\, 2024\, St. Jude’s Children’s Research Hospital Trike-A-Thon. Class times to be announced.
URL:https://riverbendmontessori.com/event/march-8-2024-st-judes-childrens-research-hospital-trike-a-thon/
LOCATION:Riverbend Montessori School\, 4225 Elkins Road\, Sugar Land\, TX\, 77479\, United States
ORGANIZER;CN="Maggie Tillman":MAILTO:info@riverbendmontessori.com
END:VEVENT
BEGIN:VEVENT
DTSTART;VALUE=DATE:20240311
DTEND;VALUE=DATE:20240316
DTSTAMP:20260419T135425
CREATED:20231128T211854Z
LAST-MODIFIED:20231128T211854Z
UID:3231-1710115200-1710547199@riverbendmontessori.com
SUMMARY:March 11-15th\, 2024 Spring Break- No School
DESCRIPTION:March 11-15th\, 2024 Spring Break- No School
URL:https://riverbendmontessori.com/event/march-11-15th-2024-spring-break-no-school/
LOCATION:Riverbend Montessori School\, 4225 Elkins Road\, Sugar Land\, TX\, 77479\, United States
ORGANIZER;CN="Maggie Tillman":MAILTO:info@riverbendmontessori.com
END:VEVENT
BEGIN:VEVENT
DTSTART;TZID=America/Chicago:20240326T080000
DTEND;TZID=America/Chicago:20240326T113000
DTSTAMP:20260419T135425
CREATED:20231128T212008Z
LAST-MODIFIED:20231128T212008Z
UID:3233-1711440000-1711452600@riverbendmontessori.com
SUMMARY:March 26\, 2024 Spring Picture Day
DESCRIPTION:March 26\, 2024 Spring Picture Day
URL:https://riverbendmontessori.com/event/march-26-2024-spring-picture-day/
LOCATION:Riverbend Montessori School\, 4225 Elkins Road\, Sugar Land\, TX\, 77479\, United States
ORGANIZER;CN="Maggie Tillman":MAILTO:info@riverbendmontessori.com
END:VEVENT
BEGIN:VEVENT
DTSTART;VALUE=DATE:20240327
DTEND;VALUE=DATE:20240328
DTSTAMP:20260419T135425
CREATED:20240118T214210Z
LAST-MODIFIED:20240118T214210Z
UID:3264-1711497600-1711583999@riverbendmontessori.com
SUMMARY:March 27\, 2024 Hot Lunch Orders Due
DESCRIPTION:Any changes or if you are starting to add hot lunch for your child the orders are due today.  Please call the office if you do not have a form.
URL:https://riverbendmontessori.com/event/march-27-2024-hot-lunch-orders-due/
LOCATION:Riverbend Montessori School\, 4225 Elkins Road\, Sugar Land\, TX\, 77479\, United States
ORGANIZER;CN="Maggie Tillman":MAILTO:info@riverbendmontessori.com
END:VEVENT
BEGIN:VEVENT
DTSTART;VALUE=DATE:20240328
DTEND;VALUE=DATE:20240329
DTSTAMP:20260419T135425
CREATED:20240118T214554Z
LAST-MODIFIED:20240118T221157Z
UID:3268-1711584000-1711670399@riverbendmontessori.com
SUMMARY:March 28\, 2024 Spring Parties
DESCRIPTION:All classes will hold their Spring Parties today.  See Tuesday Newsday for more details
URL:https://riverbendmontessori.com/event/march-28-2024-spring-parties/
LOCATION:Riverbend Montessori School\, 4225 Elkins Road\, Sugar Land\, TX\, 77479\, United States
ORGANIZER;CN="Maggie Tillman":MAILTO:info@riverbendmontessori.com
END:VEVENT
END:VCALENDAR