BEGIN:VCALENDAR
VERSION:2.0
PRODID:-//Riverbend Montessori - ECPv6.15.15//NONSGML v1.0//EN
CALSCALE:GREGORIAN
METHOD:PUBLISH
X-ORIGINAL-URL:https://riverbendmontessori.com
X-WR-CALDESC:Events for Riverbend Montessori
REFRESH-INTERVAL;VALUE=DURATION:PT1H
X-Robots-Tag:noindex
X-PUBLISHED-TTL:PT1H
BEGIN:VTIMEZONE
TZID:America/Chicago
BEGIN:DAYLIGHT
TZOFFSETFROM:-0600
TZOFFSETTO:-0500
TZNAME:CDT
DTSTART:20230312T080000
END:DAYLIGHT
BEGIN:STANDARD
TZOFFSETFROM:-0500
TZOFFSETTO:-0600
TZNAME:CST
DTSTART:20231105T070000
END:STANDARD
BEGIN:DAYLIGHT
TZOFFSETFROM:-0600
TZOFFSETTO:-0500
TZNAME:CDT
DTSTART:20240310T080000
END:DAYLIGHT
BEGIN:STANDARD
TZOFFSETFROM:-0500
TZOFFSETTO:-0600
TZNAME:CST
DTSTART:20241103T070000
END:STANDARD
BEGIN:DAYLIGHT
TZOFFSETFROM:-0600
TZOFFSETTO:-0500
TZNAME:CDT
DTSTART:20250309T080000
END:DAYLIGHT
BEGIN:STANDARD
TZOFFSETFROM:-0500
TZOFFSETTO:-0600
TZNAME:CST
DTSTART:20251102T070000
END:STANDARD
END:VTIMEZONE
BEGIN:VEVENT
DTSTART;VALUE=DATE:20240214
DTEND;VALUE=DATE:20240215
DTSTAMP:20260419T154247
CREATED:20231127T180542Z
LAST-MODIFIED:20231127T180542Z
UID:3218-1707868800-1707955199@riverbendmontessori.com
SUMMARY:Feb. 14\, 2024: Valentine's Day Party
DESCRIPTION:Feb. 14\, 2024: Valentine’s Day Party-Times to be announced but these are for the students only\,
URL:https://riverbendmontessori.com/event/feb-14-2024-valentines-day-party/
LOCATION:Riverbend Montessori School\, 4225 Elkins Road\, Sugar Land\, TX\, 77479\, United States
ORGANIZER;CN="Maggie Tillman":MAILTO:info@riverbendmontessori.com
END:VEVENT
BEGIN:VEVENT
DTSTART;VALUE=DATE:20240219
DTEND;VALUE=DATE:20240220
DTSTAMP:20260419T154247
CREATED:20231128T165937Z
LAST-MODIFIED:20231128T170221Z
UID:3220-1708300800-1708387199@riverbendmontessori.com
SUMMARY:February 19\, 2024 President's Day No School
DESCRIPTION:February 19\, 2024 President’s Day No School
URL:https://riverbendmontessori.com/event/february-19-presidents-day-no-school/
LOCATION:Riverbend Montessori School\, 4225 Elkins Road\, Sugar Land\, TX\, 77479\, United States
ORGANIZER;CN="Maggie Tillman":MAILTO:info@riverbendmontessori.com
END:VEVENT
BEGIN:VEVENT
DTSTART;TZID=America/Chicago:20240220T083000
DTEND;TZID=America/Chicago:20240220T093000
DTSTAMP:20260419T154247
CREATED:20240118T213835Z
LAST-MODIFIED:20240118T213835Z
UID:3262-1708417800-1708421400@riverbendmontessori.com
SUMMARY:February 20\, 2024-Lower and Upper Elementary Parent Breakfast
DESCRIPTION:February 20\, 2024: Parent Breakfast-Upper and Lower Elementary 8:30 a.m.-9:30 a.m.
URL:https://riverbendmontessori.com/event/february-20-2024-lower-and-upper-elementary-parent-breakfast/
LOCATION:Riverbend Montessori School\, 4225 Elkins Road\, Sugar Land\, TX\, 77479\, United States
ORGANIZER;CN="Maggie Tillman":MAILTO:info@riverbendmontessori.com
END:VEVENT
BEGIN:VEVENT
DTSTART;TZID=America/Chicago:20240221T080000
DTEND;TZID=America/Chicago:20240221T170000
DTSTAMP:20260419T154247
CREATED:20231128T170139Z
LAST-MODIFIED:20231128T170139Z
UID:3222-1708502400-1708534800@riverbendmontessori.com
SUMMARY:February 21\, 2024 Hot Lunch Orders Due
DESCRIPTION:February 21\, 2024\, Hot Lunch Orders Due.  If you would like to change or start a hot lunch for the month of March please call the office for a hot lunch menu.
URL:https://riverbendmontessori.com/event/february-21-2024-hot-lunch-orders-due/
LOCATION:Riverbend Montessori School\, 4225 Elkins Road\, Sugar Land\, TX\, 77479\, United States
ORGANIZER;CN="Maggie Tillman":MAILTO:info@riverbendmontessori.com
END:VEVENT
BEGIN:VEVENT
DTSTART;VALUE=DATE:20240223
DTEND;VALUE=DATE:20240224
DTSTAMP:20260419T154247
CREATED:20231128T170359Z
LAST-MODIFIED:20231128T170359Z
UID:3225-1708646400-1708732799@riverbendmontessori.com
SUMMARY:February 23\, 2024 Lunar New Year Celebration
DESCRIPTION:February 23\, 2024 Lunar New Year Celebration.  More information to follow in the Tuesday Newsday.
URL:https://riverbendmontessori.com/event/february-23-2024-lunar-new-year-celebration/
LOCATION:Riverbend Montessori School\, 4225 Elkins Road\, Sugar Land\, TX\, 77479\, United States
ORGANIZER;CN="Maggie Tillman":MAILTO:info@riverbendmontessori.com
END:VEVENT
END:VCALENDAR