BEGIN:VCALENDAR
VERSION:2.0
PRODID:-//Riverbend Montessori - ECPv6.15.15//NONSGML v1.0//EN
CALSCALE:GREGORIAN
METHOD:PUBLISH
X-ORIGINAL-URL:https://riverbendmontessori.com
X-WR-CALDESC:Events for Riverbend Montessori
REFRESH-INTERVAL;VALUE=DURATION:PT1H
X-Robots-Tag:noindex
X-PUBLISHED-TTL:PT1H
BEGIN:VTIMEZONE
TZID:America/Chicago
BEGIN:DAYLIGHT
TZOFFSETFROM:-0600
TZOFFSETTO:-0500
TZNAME:CDT
DTSTART:20220313T080000
END:DAYLIGHT
BEGIN:STANDARD
TZOFFSETFROM:-0500
TZOFFSETTO:-0600
TZNAME:CST
DTSTART:20221106T070000
END:STANDARD
BEGIN:DAYLIGHT
TZOFFSETFROM:-0600
TZOFFSETTO:-0500
TZNAME:CDT
DTSTART:20230312T080000
END:DAYLIGHT
BEGIN:STANDARD
TZOFFSETFROM:-0500
TZOFFSETTO:-0600
TZNAME:CST
DTSTART:20231105T070000
END:STANDARD
BEGIN:DAYLIGHT
TZOFFSETFROM:-0600
TZOFFSETTO:-0500
TZNAME:CDT
DTSTART:20240310T080000
END:DAYLIGHT
BEGIN:STANDARD
TZOFFSETFROM:-0500
TZOFFSETTO:-0600
TZNAME:CST
DTSTART:20241103T070000
END:STANDARD
END:VTIMEZONE
BEGIN:VEVENT
DTSTART;TZID=America/Chicago:20230904T150000
DTEND;TZID=America/Chicago:20231231T163000
DTSTAMP:20260419T204046
CREATED:20230828T175435Z
LAST-MODIFIED:20230828T175449Z
UID:3151-1693839600-1704040200@riverbendmontessori.com
SUMMARY:All After-School Programs Begin-Music\, Rhythm India\, Soccer Shots\, Piano
DESCRIPTION:All After-School Specials Programs begin the week of the 4th of September.
URL:https://riverbendmontessori.com/event/all-after-school-programs-begin-music-rhythm-india-soccer-shots-piano/
LOCATION:Riverbend Montessori School\, 4225 Elkins Road\, Sugar Land\, TX\, 77479\, United States
END:VEVENT
BEGIN:VEVENT
DTSTART;TZID=America/Chicago:20231103T080000
DTEND;TZID=America/Chicago:20231103T170000
DTSTAMP:20260419T204046
CREATED:20230920T171510Z
LAST-MODIFIED:20231101T211437Z
UID:3173-1698998400-1699030800@riverbendmontessori.com
SUMMARY:Indo Pak Festival 11/3/23
DESCRIPTION:Our annual Indo Pak Festival is 11/3/23 at 9:30 a.m.  Parents\, please join us for a morning of music and dancing by our students and parents. Times to be announced.
URL:https://riverbendmontessori.com/event/indo-pak-festival-11-3-23/
LOCATION:Riverbend Montessori School\, 4225 Elkins Road\, Sugar Land\, TX\, 77479\, United States
ORGANIZER;CN="Maggie Tillman":MAILTO:info@riverbendmontessori.com
END:VEVENT
BEGIN:VEVENT
DTSTART;TZID=America/Chicago:20231117T110000
DTEND;TZID=America/Chicago:20231117T120000
DTSTAMP:20260419T204046
CREATED:20230920T173309Z
LAST-MODIFIED:20231101T205729Z
UID:3177-1700218800-1700222400@riverbendmontessori.com
SUMMARY:Thanksgiving Feast/Early Dismissal 11/17/23
DESCRIPTION:Thanksgiving Feast Day-The students will enjoy a wonderful feast served by the teachers. Early Dismissal Transition and Primary 1 & 2 @ 11:45 a.m.  Lower and Upper Elementary 12:00 p.m.
URL:https://riverbendmontessori.com/event/thanksgiving-feast-early-dismissal-11-17-23/
LOCATION:Riverbend Montessori School\, 4225 Elkins Road\, Sugar Land\, TX\, 77479\, United States
ORGANIZER;CN="Maggie Tillman":MAILTO:info@riverbendmontessori.com
END:VEVENT
BEGIN:VEVENT
DTSTART;VALUE=DATE:20231127
DTEND;VALUE=DATE:20231128
DTSTAMP:20260419T204046
CREATED:20230920T182509Z
LAST-MODIFIED:20230920T182509Z
UID:3179-1701043200-1701129599@riverbendmontessori.com
SUMMARY:Hot Lunch Orders Due 11/27/23
DESCRIPTION:If you would like to change or start adding hot lunch please complete the hot lunch order form by 11/27/23
URL:https://riverbendmontessori.com/event/hot-lunch-orders-due-11-27-23/
LOCATION:Riverbend Montessori School\, 4225 Elkins Road\, Sugar Land\, TX\, 77479\, United States
ORGANIZER;CN="Maggie Tillman":MAILTO:info@riverbendmontessori.com
END:VEVENT
END:VCALENDAR