BEGIN:VCALENDAR
VERSION:2.0
PRODID:-//Riverbend Montessori - ECPv6.15.15//NONSGML v1.0//EN
CALSCALE:GREGORIAN
METHOD:PUBLISH
X-WR-CALNAME:Riverbend Montessori
X-ORIGINAL-URL:https://riverbendmontessori.com
X-WR-CALDESC:Events for Riverbend Montessori
REFRESH-INTERVAL;VALUE=DURATION:PT1H
X-Robots-Tag:noindex
X-PUBLISHED-TTL:PT1H
BEGIN:VTIMEZONE
TZID:America/Chicago
BEGIN:DAYLIGHT
TZOFFSETFROM:-0600
TZOFFSETTO:-0500
TZNAME:CDT
DTSTART:20230312T080000
END:DAYLIGHT
BEGIN:STANDARD
TZOFFSETFROM:-0500
TZOFFSETTO:-0600
TZNAME:CST
DTSTART:20231105T070000
END:STANDARD
BEGIN:DAYLIGHT
TZOFFSETFROM:-0600
TZOFFSETTO:-0500
TZNAME:CDT
DTSTART:20240310T080000
END:DAYLIGHT
BEGIN:STANDARD
TZOFFSETFROM:-0500
TZOFFSETTO:-0600
TZNAME:CST
DTSTART:20241103T070000
END:STANDARD
BEGIN:DAYLIGHT
TZOFFSETFROM:-0600
TZOFFSETTO:-0500
TZNAME:CDT
DTSTART:20250309T080000
END:DAYLIGHT
BEGIN:STANDARD
TZOFFSETFROM:-0500
TZOFFSETTO:-0600
TZNAME:CST
DTSTART:20251102T070000
END:STANDARD
END:VTIMEZONE
BEGIN:VEVENT
DTSTART;TZID=America/Chicago:20241026T150000
DTEND;TZID=America/Chicago:20241026T170000
DTSTAMP:20260418T025608
CREATED:20240924T184112Z
LAST-MODIFIED:20240924T184112Z
UID:3391-1729954800-1729962000@riverbendmontessori.com
SUMMARY:Annual Fall Festival October 26\, 2024
DESCRIPTION:The entire family is invited and the children can come dressed in their costumes. (No swords or weapons of any kind\, please) They will have fun playing games\, face painting\, and enjoying a meal with their friends and family. Please bring a dish to share. The festivities will begin at 3:00 p.m. and end at 5:00 p.m. We will start serving food at 4:00 p.m. We look forward to seeing you all there!
URL:https://riverbendmontessori.com/event/annual-fall-festival-october-26-2024/
LOCATION:Riverbend Montessori School\, 4225 Elkins Road\, Sugar Land\, TX\, 77479\, United States
ORGANIZER;CN="Maggie Tillman":MAILTO:info@riverbendmontessori.com
END:VEVENT
END:VCALENDAR