BEGIN:VCALENDAR
VERSION:2.0
PRODID:-//Riverbend Montessori - ECPv6.15.15//NONSGML v1.0//EN
CALSCALE:GREGORIAN
METHOD:PUBLISH
X-ORIGINAL-URL:https://riverbendmontessori.com
X-WR-CALDESC:Events for Riverbend Montessori
REFRESH-INTERVAL;VALUE=DURATION:PT1H
X-Robots-Tag:noindex
X-PUBLISHED-TTL:PT1H
BEGIN:VTIMEZONE
TZID:America/Chicago
BEGIN:DAYLIGHT
TZOFFSETFROM:-0600
TZOFFSETTO:-0500
TZNAME:CDT
DTSTART:20230312T080000
END:DAYLIGHT
BEGIN:STANDARD
TZOFFSETFROM:-0500
TZOFFSETTO:-0600
TZNAME:CST
DTSTART:20231105T070000
END:STANDARD
BEGIN:DAYLIGHT
TZOFFSETFROM:-0600
TZOFFSETTO:-0500
TZNAME:CDT
DTSTART:20240310T080000
END:DAYLIGHT
BEGIN:STANDARD
TZOFFSETFROM:-0500
TZOFFSETTO:-0600
TZNAME:CST
DTSTART:20241103T070000
END:STANDARD
BEGIN:DAYLIGHT
TZOFFSETFROM:-0600
TZOFFSETTO:-0500
TZNAME:CDT
DTSTART:20250309T080000
END:DAYLIGHT
BEGIN:STANDARD
TZOFFSETFROM:-0500
TZOFFSETTO:-0600
TZNAME:CST
DTSTART:20251102T070000
END:STANDARD
END:VTIMEZONE
BEGIN:VEVENT
DTSTART;TZID=America/Chicago:20240924T083000
DTEND;TZID=America/Chicago:20240924T160000
DTSTAMP:20260418T031639
CREATED:20240924T192652Z
LAST-MODIFIED:20240924T192652Z
UID:3397-1727166600-1727193600@riverbendmontessori.com
SUMMARY:Hot Lunch Orders Due-November 19\,2024
DESCRIPTION:Hot Lunch Orders Due-November 19\,2024 only if you have changes.
URL:https://riverbendmontessori.com/event/hot-lunch-orders-due-november-192024/
LOCATION:Riverbend Montessori School\, 4225 Elkins Road\, Sugar Land\, TX\, 77479\, United States
ORGANIZER;CN="Maggie Tillman":MAILTO:info@riverbendmontessori.com
END:VEVENT
BEGIN:VEVENT
DTSTART;TZID=America/Chicago:20240924T093000
DTEND;TZID=America/Chicago:20240924T223000
DTSTAMP:20260418T031639
CREATED:20240924T192904Z
LAST-MODIFIED:20240924T192904Z
UID:3399-1727170200-1727217000@riverbendmontessori.com
SUMMARY:Indo-Pak- November 15\, 2024
DESCRIPTION:Indo-Pak- November 15\, 2024. This festival has been a Riverbend tradition for over 28 years. The children work very hard on their dances\, and they look forward to performing them for your family. We will start at 9:30.
URL:https://riverbendmontessori.com/event/indo-pak-november-15-2024/
LOCATION:Riverbend Montessori School\, 4225 Elkins Road\, Sugar Land\, TX\, 77479\, United States
ORGANIZER;CN="Maggie Tillman":MAILTO:info@riverbendmontessori.com
END:VEVENT
END:VCALENDAR