BEGIN:VCALENDAR
VERSION:2.0
PRODID:-//Riverbend Montessori - ECPv6.15.15//NONSGML v1.0//EN
CALSCALE:GREGORIAN
METHOD:PUBLISH
X-ORIGINAL-URL:https://riverbendmontessori.com
X-WR-CALDESC:Events for Riverbend Montessori
REFRESH-INTERVAL;VALUE=DURATION:PT1H
X-Robots-Tag:noindex
X-PUBLISHED-TTL:PT1H
BEGIN:VTIMEZONE
TZID:America/Chicago
BEGIN:DAYLIGHT
TZOFFSETFROM:-0600
TZOFFSETTO:-0500
TZNAME:CDT
DTSTART:20230312T080000
END:DAYLIGHT
BEGIN:STANDARD
TZOFFSETFROM:-0500
TZOFFSETTO:-0600
TZNAME:CST
DTSTART:20231105T070000
END:STANDARD
BEGIN:DAYLIGHT
TZOFFSETFROM:-0600
TZOFFSETTO:-0500
TZNAME:CDT
DTSTART:20240310T080000
END:DAYLIGHT
BEGIN:STANDARD
TZOFFSETFROM:-0500
TZOFFSETTO:-0600
TZNAME:CST
DTSTART:20241103T070000
END:STANDARD
BEGIN:DAYLIGHT
TZOFFSETFROM:-0600
TZOFFSETTO:-0500
TZNAME:CDT
DTSTART:20250309T080000
END:DAYLIGHT
BEGIN:STANDARD
TZOFFSETFROM:-0500
TZOFFSETTO:-0600
TZNAME:CST
DTSTART:20251102T070000
END:STANDARD
END:VTIMEZONE
BEGIN:VEVENT
DTSTART;TZID=America/Chicago:20240117T090000
DTEND;TZID=America/Chicago:20240117T100000
DTSTAMP:20260419T185330
CREATED:20231127T160812Z
LAST-MODIFIED:20240118T212613Z
UID:3208-1705482000-1705485600@riverbendmontessori.com
SUMMARY:Jan. 17\, 2024 Primary 1 & 2 Classes Parent Breakfast
DESCRIPTION:Jan. 17\, 2024\, Primary 1 & 2 Classes Parent Breakfast 9:00 a.m.-10:00 a.m. \nCanceled due to weather
URL:https://riverbendmontessori.com/event/jan-172024-primary-1-2-classes-parent-breakfast/
LOCATION:Riverbend Montessori School\, 4225 Elkins Road\, Sugar Land\, TX\, 77479\, United States
ORGANIZER;CN="Maggie Tillman":MAILTO:info@riverbendmontessori.com
END:VEVENT
BEGIN:VEVENT
DTSTART;TZID=America/Chicago:20240117T180000
DTEND;TZID=America/Chicago:20240117T183000
DTSTAMP:20260419T185330
CREATED:20231127T161405Z
LAST-MODIFIED:20240118T212454Z
UID:3212-1705514400-1705516200@riverbendmontessori.com
SUMMARY:Jan. 17\, 2024 Transition Parent Night
DESCRIPTION:Jan. 17\, 2024 Transition Parent Night 6:00 p.m.-6:30 p.m. \nCanceled due to weather
URL:https://riverbendmontessori.com/event/jan-17-2024-transition-parent-night/
LOCATION:Riverbend Montessori School\, 4225 Elkins Road\, Sugar Land\, TX\, 77479\, United States
ORGANIZER;CN="Maggie Tillman":MAILTO:info@riverbendmontessori.com
END:VEVENT
END:VCALENDAR